BEGIN:VCALENDAR
VERSION:2.0
PRODID:-//Wakeboarding New Zealand - ECPv4.9.10//NONSGML v1.0//EN
CALSCALE:GREGORIAN
METHOD:PUBLISH
X-WR-CALNAME:Wakeboarding New Zealand
X-ORIGINAL-URL:http://wakenz.co.nz
X-WR-CALDESC:Events for Wakeboarding New Zealand
BEGIN:VTIMEZONE
TZID:Pacific/Auckland
BEGIN:STANDARD
TZOFFSETFROM:+1300
TZOFFSETTO:+1200
TZNAME:NZST
DTSTART:20160402T140000
END:STANDARD
BEGIN:DAYLIGHT
TZOFFSETFROM:+1200
TZOFFSETTO:+1300
TZNAME:NZDT
DTSTART:20160924T140000
END:DAYLIGHT
END:VTIMEZONE
BEGIN:VEVENT
DTSTART;TZID=Pacific/Auckland:20160624T080000
DTEND;TZID=Pacific/Auckland:20160626T170000
DTSTAMP:20191223T100311
CREATED:20160527T214214Z
LAST-MODIFIED:20161112T020036Z
UID:15084-1466755200-1466960400@wakenz.co.nz
SUMMARY:2016 New Zealand Open Championships in Cable Wakeboarding
DESCRIPTION:The 2016 New Zealand Open Championships in Cable Wakeboarding will be hosted by Rixen NZ at The Onehunga Bay Reserve on the 24-26th June 2016. \nThe Event will be recognised by the International Waterski & Wakeboard Federation (IWWF). \n  \n
URL:http://wakenz.co.nz/event/2016-new-zealand-open-championships-in-cable-wakeboarding/
LOCATION:Onehunga Bay Reserve\, Onehunga Bay Reserve\, Auckland\, 1061\, New Zealand
CATEGORIES:Competitions
ATTACH;FMTTYPE=image/jpeg:http://secureservercdn.net/45.40.155.175/6a0.450.myftpupload.com/wp-content/uploads/2016/05/Rixen-Comp.jpg?time=1576715275
END:VEVENT
END:VCALENDAR