BEGIN:VCALENDAR
VERSION:2.0
PRODID:-//Wakeboarding New Zealand - ECPv4.9.10//NONSGML v1.0//EN
CALSCALE:GREGORIAN
METHOD:PUBLISH
X-WR-CALNAME:Wakeboarding New Zealand
X-ORIGINAL-URL:http://wakenz.co.nz
X-WR-CALDESC:Events for Wakeboarding New Zealand
BEGIN:VTIMEZONE
TZID:Pacific/Auckland
BEGIN:STANDARD
TZOFFSETFROM:+1300
TZOFFSETTO:+1200
TZNAME:NZST
DTSTART:20180331T140000
END:STANDARD
BEGIN:DAYLIGHT
TZOFFSETFROM:+1200
TZOFFSETTO:+1300
TZNAME:NZDT
DTSTART:20180929T140000
END:DAYLIGHT
END:VTIMEZONE
BEGIN:VEVENT
DTSTART;TZID=Pacific/Auckland:20180224T080000
DTEND;TZID=Pacific/Auckland:20180225T170000
DTSTAMP:20191222T220432
CREATED:20170523T004633Z
LAST-MODIFIED:20180207T073337Z
UID:15446-1519459200-1519578000@wakenz.co.nz
SUMMARY:ROUND 3 - 2018 - Mangakino
DESCRIPTION:Round 3 of our Wake NZ calendar will be held at Mangakino\, on February 24-25\, 2018. \n
URL:http://wakenz.co.nz/event/2018-round-3/
LOCATION:Mangakino\, Lake Maraetai\, Kinleith\, 3491\, New Zealand
CATEGORIES:Competitions
END:VEVENT
END:VCALENDAR