BEGIN:VCALENDAR
VERSION:2.0
PRODID:-//Wakeboarding New Zealand - ECPv4.9.10//NONSGML v1.0//EN
CALSCALE:GREGORIAN
METHOD:PUBLISH
X-WR-CALNAME:Wakeboarding New Zealand
X-ORIGINAL-URL:http://wakenz.co.nz
X-WR-CALDESC:Events for Wakeboarding New Zealand
BEGIN:VTIMEZONE
TZID:Pacific/Auckland
BEGIN:STANDARD
TZOFFSETFROM:+1300
TZOFFSETTO:+1200
TZNAME:NZST
DTSTART:20190406T140000
END:STANDARD
BEGIN:DAYLIGHT
TZOFFSETFROM:+1200
TZOFFSETTO:+1300
TZNAME:NZDT
DTSTART:20190928T140000
END:DAYLIGHT
END:VTIMEZONE
BEGIN:VEVENT
DTSTART;TZID=Pacific/Auckland:20190405T080000
DTEND;TZID=Pacific/Auckland:20190406T170000
DTSTAMP:20191222T220526
CREATED:20181025T233536Z
LAST-MODIFIED:20181025T233536Z
UID:15641-1554451200-1554570000@wakenz.co.nz
SUMMARY:2019 NZ Wakeboarding National Championships
DESCRIPTION:The 2019 New Zealand Wakeboarding Nationals will be held at the Horahora Domain\, on Friday 5 April and Saturday 6 April 2019. \nSchedule: \nFriday 5 April \n7:30am registration\n8am rider briefing\n8:30am riding starts \nSaturday 6 April \n8:30am riding starts\nPrizegiving: location tbc \nThe Nationals event divisions are age-based. \nAge determined as at 1 January 2019 \nAll divisions will run regardless of the number of riders entered. \nEntry fees: \nGrommets\, Junior Boys\, Junior Girls: $100\nAll other divisions: $125 \n
URL:http://wakenz.co.nz/event/2019-nz-wakeboarding-national-championships/
LOCATION:Horahora Domain\, Horahora Domain\, Piarere\, New Zealand
END:VEVENT
END:VCALENDAR