BEGIN:VCALENDAR
VERSION:2.0
PRODID:-//Wakeboarding New Zealand - ECPv4.9.10//NONSGML v1.0//EN
CALSCALE:GREGORIAN
METHOD:PUBLISH
X-WR-CALNAME:Wakeboarding New Zealand
X-ORIGINAL-URL:http://wakenz.co.nz
X-WR-CALDESC:Events for Wakeboarding New Zealand
BEGIN:VTIMEZONE
TZID:Pacific/Auckland
BEGIN:STANDARD
TZOFFSETFROM:+1300
TZOFFSETTO:+1200
TZNAME:NZST
DTSTART:20190406T140000
END:STANDARD
BEGIN:DAYLIGHT
TZOFFSETFROM:+1200
TZOFFSETTO:+1300
TZNAME:NZDT
DTSTART:20190928T140000
END:DAYLIGHT
END:VTIMEZONE
BEGIN:VEVENT
DTSTART;TZID=Pacific/Auckland:20190126T080000
DTEND;TZID=Pacific/Auckland:20190127T170000
DTSTAMP:20191222T220505
CREATED:20180826T092359Z
LAST-MODIFIED:20190124T082850Z
UID:15629-1548489600-1548608400@wakenz.co.nz
SUMMARY:2019 – Wake NZ Round 2 – Backpaddock Lakes
DESCRIPTION:The popular Cable vs Wake event will be held on Auckland Anniversary weekend: 26-27 January 2019\, at the Backpaddock Lakes complex\, near Waipukurau. \nRiders compete behind the boat on Day 1\, and on the cable on Day 2 of the comp. \nCamping is available on-site\, at Backpaddock Lakes. Cost is $10 per person per night (note that caravans are not available this year). Camping fees payable to Wake NZ\, when you register. \nCompetition entry fee: $65 per rider. \n  \n\nSCHEDULE (Sat/Sun):\n\n\n \n\n\n– Registration: 8:30am\n\n\n– Rider Briefing: 9:00am\n\n\n– Riding Starts: 9:30am\n\n\n \n\n\nAll riders must be at the 9am briefing in order to compete.\n\n
URL:http://wakenz.co.nz/event/2019-wake-nz-round-2-backpaddock-lakes/
LOCATION:Backpaddock Lakes\, 314 Speedy Road\, Ashley Clinton\, 4288\, New Zealand
CATEGORIES:Competitions
END:VEVENT
END:VCALENDAR