BEGIN:VCALENDAR
VERSION:2.0
PRODID:-//Wakeboarding New Zealand - ECPv4.9.10//NONSGML v1.0//EN
CALSCALE:GREGORIAN
METHOD:PUBLISH
X-WR-CALNAME:Wakeboarding New Zealand
X-ORIGINAL-URL:http://wakenz.co.nz
X-WR-CALDESC:Events for Wakeboarding New Zealand
BEGIN:VTIMEZONE
TZID:Pacific/Auckland
BEGIN:STANDARD
TZOFFSETFROM:+1300
TZOFFSETTO:+1200
TZNAME:NZST
DTSTART:20200404T140000
END:STANDARD
BEGIN:DAYLIGHT
TZOFFSETFROM:+1200
TZOFFSETTO:+1300
TZNAME:NZDT
DTSTART:20200926T140000
END:DAYLIGHT
END:VTIMEZONE
BEGIN:VEVENT
DTSTART;TZID=Pacific/Auckland:20200229T080000
DTEND;TZID=Pacific/Auckland:20200301T170000
DTSTAMP:20191221T130625
CREATED:20190818T225432Z
LAST-MODIFIED:20191017T141656Z
UID:15789-1582963200-1583082000@wakenz.co.nz
SUMMARY:2020 - Wake NZ - North Island Championships
DESCRIPTION:The Wake NZ North Island Champs is tentatively scheduled for 29 Feb – 1 March 2020\, at Lake Maraetai\, Mangakino. \nMore details to follow. \n
URL:http://wakenz.co.nz/event/2020-wake-nz-north-island-championships/
LOCATION:Mangakino\, Lake Maraetai\, Kinleith\, 3491\, New Zealand
CATEGORIES:Competitions
END:VEVENT
END:VCALENDAR