BEGIN:VCALENDAR
VERSION:2.0
PRODID:-//Wakeboarding New Zealand - ECPv4.9.10//NONSGML v1.0//EN
CALSCALE:GREGORIAN
METHOD:PUBLISH
X-WR-CALNAME:Wakeboarding New Zealand
X-ORIGINAL-URL:http://wakenz.co.nz
X-WR-CALDESC:Events for Wakeboarding New Zealand
BEGIN:VTIMEZONE
TZID:Pacific/Auckland
BEGIN:STANDARD
TZOFFSETFROM:+1300
TZOFFSETTO:+1200
TZNAME:NZST
DTSTART:20170401T140000
END:STANDARD
BEGIN:DAYLIGHT
TZOFFSETFROM:+1200
TZOFFSETTO:+1300
TZNAME:NZDT
DTSTART:20170923T140000
END:DAYLIGHT
END:VTIMEZONE
BEGIN:VEVENT
DTSTART;TZID=Pacific/Auckland:20170211T090000
DTEND;TZID=Pacific/Auckland:20170212T160000
DTSTAMP:20191223T100447
CREATED:20160515T070547Z
LAST-MODIFIED:20170203T222513Z
UID:14973-1486803600-1486915200@wakenz.co.nz
SUMMARY:2017 Crowe Horwath Cable vs Wake
DESCRIPTION:The popular Cable vs Wake competition will run on 11th-12th February 2017\, at the Backpaddock Lakes complex\, near Waipukurau. \nRiders compete behind the boat on Day 1\, and on the cable on Day 2 of the comp. \nEntries close on 1 February 2017. \nDownload Registration Form. \n
URL:http://wakenz.co.nz/event/cable-vs-wake-2017/
LOCATION:Backpaddock Lakes\, 314 Speedy Road\, Ashley Clinton\, 4288\, New Zealand
CATEGORIES:Competitions
ATTACH;FMTTYPE=image/jpeg:http://secureservercdn.net/45.40.155.175/6a0.450.myftpupload.com/wp-content/uploads/2016/05/BPL-haybales.jpg?time=1576715275
END:VEVENT
END:VCALENDAR