BEGIN:VCALENDAR
VERSION:2.0
PRODID:-//Wakeboarding New Zealand - ECPv4.9.10//NONSGML v1.0//EN
CALSCALE:GREGORIAN
METHOD:PUBLISH
X-WR-CALNAME:Wakeboarding New Zealand
X-ORIGINAL-URL:http://wakenz.co.nz
X-WR-CALDESC:Events for Wakeboarding New Zealand
BEGIN:VTIMEZONE
TZID:Pacific/Auckland
BEGIN:STANDARD
TZOFFSETFROM:+1300
TZOFFSETTO:+1200
TZNAME:NZST
DTSTART:20160402T140000
END:STANDARD
BEGIN:DAYLIGHT
TZOFFSETFROM:+1200
TZOFFSETTO:+1300
TZNAME:NZDT
DTSTART:20160924T140000
END:DAYLIGHT
END:VTIMEZONE
BEGIN:VEVENT
DTSTART;TZID=Pacific/Auckland:20161203T083000
DTEND;TZID=Pacific/Auckland:20161203T170000
DTSTAMP:20191223T100346
CREATED:20160927T050426Z
LAST-MODIFIED:20161030T070811Z
UID:15386-1480753800-1480784400@wakenz.co.nz
SUMMARY:2016 Urban Edge Open Wakeboard Competition
DESCRIPTION:Download registration form here. \n
URL:http://wakenz.co.nz/event/urban-edge-open-wakeboard-competition/
LOCATION:Orakei Korako\, 494 Orakei Korako Rd\, Taupo\, 3083\, New Zealand
CATEGORIES:Competitions
ATTACH;FMTTYPE=image/jpeg:http://secureservercdn.net/45.40.155.175/6a0.450.myftpupload.com/wp-content/uploads/2016/09/2016-Open-Wakeboard-Competion-social-media.jpg?time=1576715275
END:VEVENT
END:VCALENDAR